BEGIN:VCALENDAR
VERSION:2.0
PRODID:-//HideAway Inn - ECPv6.15.11//NONSGML v1.0//EN
CALSCALE:GREGORIAN
METHOD:PUBLISH
X-ORIGINAL-URL:https://hideawayinnstaging.rondolyn.com
X-WR-CALDESC:Events for HideAway Inn
REFRESH-INTERVAL;VALUE=DURATION:PT1H
X-Robots-Tag:noindex
X-PUBLISHED-TTL:PT1H
BEGIN:VTIMEZONE
TZID:America/New_York
BEGIN:DAYLIGHT
TZOFFSETFROM:-0500
TZOFFSETTO:-0400
TZNAME:EDT
DTSTART:20240310T070000
END:DAYLIGHT
BEGIN:STANDARD
TZOFFSETFROM:-0400
TZOFFSETTO:-0500
TZNAME:EST
DTSTART:20241103T060000
END:STANDARD
BEGIN:DAYLIGHT
TZOFFSETFROM:-0500
TZOFFSETTO:-0400
TZNAME:EDT
DTSTART:20250309T070000
END:DAYLIGHT
BEGIN:STANDARD
TZOFFSETFROM:-0400
TZOFFSETTO:-0500
TZNAME:EST
DTSTART:20251102T060000
END:STANDARD
BEGIN:DAYLIGHT
TZOFFSETFROM:-0500
TZOFFSETTO:-0400
TZNAME:EDT
DTSTART:20260308T070000
END:DAYLIGHT
BEGIN:STANDARD
TZOFFSETFROM:-0400
TZOFFSETTO:-0500
TZNAME:EST
DTSTART:20261101T060000
END:STANDARD
END:VTIMEZONE
BEGIN:VEVENT
DTSTART;VALUE=DATE:20250815
DTEND;VALUE=DATE:20250818
DTSTAMP:20260422T215800
CREATED:20250620T204615Z
LAST-MODIFIED:20250620T204615Z
UID:46181-1755216000-1755475199@hideawayinnstaging.rondolyn.com
SUMMARY:Superbikes at Mid-Ohio
DESCRIPTION:MotoAmerica brings superbike action back to Mid-Ohio\, concluding the summer’s race events calendar. Permco MotoAmerica Superbikes at Mid-Ohio\, the seventh round of the 2025 MotoAmerica Steel Commander Superbike Championship\, is set for Aug. 15-17. In addition to Superbike\, five additional classes of two-wheel action are expected to fill the weekend schedule all featuring doubleheader races.
URL:https://hideawayinnstaging.rondolyn.com/event/superbikes-at-mid-ohio/
CATEGORIES:In the Area,Mid Ohio
ATTACH;FMTTYPE=image/png:https://hideawayinnstaging.rondolyn.com/wp-content/uploads/2025/06/Superbikes-mid-Ohio-1-compressed.png
END:VEVENT
BEGIN:VEVENT
DTSTART;VALUE=DATE:20250725
DTEND;VALUE=DATE:20250728
DTSTAMP:20260422T215800
CREATED:20250620T204422Z
LAST-MODIFIED:20250620T204422Z
UID:46179-1753401600-1753660799@hideawayinnstaging.rondolyn.com
SUMMARY:AMA Vintage Motorcycle Days at Mid-Ohio
DESCRIPTION:Vintage motorcycle enthusiasts will be in heaven at the AMA Vintage Motorcycle Days at Mid-Ohio. This is the gathering of the year for vintage motorcycle aficionados in the United States. Tens of thousands of two-wheel fans will have the opportunity to view rare vintage bikes\, attend a gigantic swap meet and sale\, and take in exciting vintage racing events both on-road and off.
URL:https://hideawayinnstaging.rondolyn.com/event/ama-vintage-motorcycle-days-at-mid-ohio/
CATEGORIES:In the Area,Mid Ohio
ATTACH;FMTTYPE=image/png:https://hideawayinnstaging.rondolyn.com/wp-content/uploads/2025/06/Vintage-Days-compressed.png
END:VEVENT
BEGIN:VEVENT
DTSTART;VALUE=DATE:20250704
DTEND;VALUE=DATE:20250707
DTSTAMP:20260422T215800
CREATED:20250620T204553Z
LAST-MODIFIED:20250620T204553Z
UID:46182-1751587200-1751846399@hideawayinnstaging.rondolyn.com
SUMMARY:Honda Indy 200 at Mid-Ohio
DESCRIPTION:The Verizon IndyCar Series headlines the Honda Indy 200 at Mid-Ohio weekend featuring the NTT INDYCAR SERIES\, returns on Fourth of July weekend (July 4-6) for the 42nd running of the legendary open-wheel event. On the current INDYCAR schedule\, Mid-Ohio Sports Car Course ranks third all-time for most INDYCAR races held by a venue. Young drivers looking to reach the NTT INDYCAR SERIES will also be showcased in INDY NXT by Firestone and three developmental ladder series from USF Pro Championship Presented by Continental Tire.
URL:https://hideawayinnstaging.rondolyn.com/event/honda-indy-200-at-mid-ohio/
CATEGORIES:In the Area,Mid Ohio
ATTACH;FMTTYPE=image/png:https://hideawayinnstaging.rondolyn.com/wp-content/uploads/2025/06/Honda-Indy-200-compressed.png
END:VEVENT
BEGIN:VEVENT
DTSTART;TZID=America/New_York:20250620T080000
DTEND;TZID=America/New_York:20250622T170000
DTSTAMP:20260422T215800
CREATED:20250620T185252Z
LAST-MODIFIED:20250620T191416Z
UID:46165-1750406400-1750611600@hideawayinnstaging.rondolyn.com
SUMMARY:Permco Grand Prix of Mid-Ohio
DESCRIPTION:The Permco Grand Prix of Mid-Ohio\, the longest continuously-running spectator event at the track\, returns on June 20-22 for its 43rd running. The Sportscar Vintage Racing Association-sanctioned weekend will provide fans a wide array of classic and modern race cars to enjoy\, including the ground-pounding Trans Am Series. Off track\, the British Car Showdown will fill the infield on Saturday\, and on Sunday\, classics of all makes and models will be on display for the Concours d’Elegance.
URL:https://hideawayinnstaging.rondolyn.com/event/permco-grand-prix-of-mid-ohio/
CATEGORIES:In the Area,Mid Ohio
ATTACH;FMTTYPE=image/png:https://hideawayinnstaging.rondolyn.com/wp-content/uploads/2025/06/Midohio-Sports-car-course-1-compressed.png
END:VEVENT
END:VCALENDAR